BEGIN:VCALENDAR
VERSION:2.0
PRODID:-//Tukios.com/
BEGIN:VEVENT
UID:3a60cd68-70e0-4123-82ae-b39795ba31c2@www.calvin-leonardfh.com
DTSTAMP:20260423T234856Z
DTSTART:20260424T170000Z
DTEND:20260424T180000Z
SUMMARY:Celebration of Life
DESCRIPTION:
URL:https://www.calvin-leonardfh.com/obituaries/lucy-mcgee
LOCATION: 6674 Paw Paw Avenue  Coloma MI 49038
GEO:42.1927767;-86.2958085
END:VEVENT
END:VCALENDAR