BEGIN:VCALENDAR
VERSION:2.0
PRODID:-//Tukios.com/
BEGIN:VEVENT
UID:2abb60b2-c900-48d4-a9ef-8c93ca11e97d@www.calvin-leonardfh.com
DTSTAMP:20260423T235539Z
DTSTART:20260424T160000Z
DTEND:20260424T170000Z
SUMMARY:Visitation
DESCRIPTION:
URL:https://www.calvin-leonardfh.com/obituaries/lucy-mcgee
LOCATION: 6674 Paw Paw Avenue  Coloma MI 49038
GEO:42.1927767;-86.2958085
END:VEVENT
END:VCALENDAR